BEGIN:VCALENDAR
VERSION:2.0
PRODID:-//Rotary Club of Rancho Cucamonga - ECPv5.10.1//NONSGML v1.0//EN
CALSCALE:GREGORIAN
METHOD:PUBLISH
X-WR-CALNAME:Rotary Club of Rancho Cucamonga
X-ORIGINAL-URL:https://rcrotary.org
X-WR-CALDESC:Events for Rotary Club of Rancho Cucamonga
BEGIN:VTIMEZONE
TZID:UTC
BEGIN:STANDARD
TZOFFSETFROM:+0000
TZOFFSETTO:+0000
TZNAME:UTC
DTSTART:20210101T000000
END:STANDARD
END:VTIMEZONE
BEGIN:VEVENT
DTSTART;VALUE=DATE:20211205
DTEND;VALUE=DATE:20211206
DTSTAMP:20260425T194807
CREATED:20211104T185342Z
LAST-MODIFIED:20211104T185342Z
UID:368-1638662400-1638748799@rcrotary.org
SUMMARY:Dr. Joe Trezza Holiday Shopping Spree
DESCRIPTION:More Information Coming Soon! \n	\n		\n	More Posts		\n						\n						\n					\n	\n\n\n		\n		\n				\n		\n							\n					\n				\n					\n		\n			\n\n				Back-to-School Boost: Shoes\, Socks & Supplies Delivered with Heart			\n		\n	\n	\n		\n							\n					\n				\n					\n		\n			\n\n				This Year’s President: Aaron Johnson			\n		\n	\n	\n		\n							\n					\n				\n					\n		\n			\n\n				Rancho Cucamonga Rotary Club is Celebrating its 55th Anniversary			\n		\n	\n	\n		\n							\n					\n				\n					\n		\n			\n\n				Rotary Club Monthly Newsletter – March 2025			\n		\n	\n	\n		\n							\n					\n				\n					\n		\n			\n\n				Join Us for the Chuck Keagle Memorial Youth Track Meet!			\n		\n	\n	\n		\n							\n					\n				\n					\n		\n			\n\n				January–March 2025 Newsletter			\n		\n	\n	\n		\n							\n					\n				\n					\n		\n			\n\n				Discover What’s Happening This Month with Our October Newsletter! 📅✨			\n		\n	\n	\n		\n							\n					\n				\n					\n		\n			\n\n				Catch Up with Our September Newsletter! 🍂📢			\n		\n	\n	\n		\n							\n					\n				\n					\n		\n			\n\n				Rotary Club of Rancho Cucamonga’s Annual Happy Feet Program\, 2024			\n		\n	\n	\n		\n							\n					\n				\n					\n		\n			\n\n				Together\, We #EndPolio💫  Words of Hope and Gratitude from Bill Gates
URL:https://rcrotary.org/event/dr-joe-trezza-holiday-shopping-spree/
LOCATION:Burlington\, 4777 Mills Cir\, Ontario\, CA\, 91764\, United States
END:VEVENT
END:VCALENDAR