BEGIN:VCALENDAR
VERSION:2.0
PRODID:-//Rotary Club of Rancho Cucamonga - ECPv5.10.1//NONSGML v1.0//EN
CALSCALE:GREGORIAN
METHOD:PUBLISH
X-WR-CALNAME:Rotary Club of Rancho Cucamonga
X-ORIGINAL-URL:https://rcrotary.org
X-WR-CALDESC:Events for Rotary Club of Rancho Cucamonga
BEGIN:VTIMEZONE
TZID:UTC
BEGIN:STANDARD
TZOFFSETFROM:+0000
TZOFFSETTO:+0000
TZNAME:UTC
DTSTART:20250101T000000
END:STANDARD
END:VTIMEZONE
BEGIN:VEVENT
DTSTART;TZID=UTC:20250731T080000
DTEND;TZID=UTC:20250731T110000
DTSTAMP:20260421T112149
CREATED:20250714T234710Z
LAST-MODIFIED:20250714T234710Z
UID:715-1753948800-1753959600@rcrotary.org
SUMMARY:Happy Feet 2025
DESCRIPTION:The Rotary Club of Rancho Cucamonga is holding its Annual Happy Feet program on July 31st. The event will take place at the District Support Center from 8:00am – 11:ooam. With the dedicated help of the Alta Loma School Superintendent’s office\, 100 children in need of new shoes and socks will benefit from Rancho Cucamonga Rotary Club’s Happy Feet. \nOur Happy Feet program not only ensures that children have proper footwear but also sets them up for success in the upcoming school year. \n \n	\n		\n	More Posts		\n						\n						\n					\n	\n\n\n		\n		\n				\n		\n							\n					\n				\n					\n		\n			\n\n				Back-to-School Boost: Shoes\, Socks & Supplies Delivered with Heart			\n		\n	\n	\n		\n							\n					\n				\n					\n		\n			\n\n				This Year’s President: Aaron Johnson			\n		\n	\n	\n		\n							\n					\n				\n					\n		\n			\n\n				Rancho Cucamonga Rotary Club is Celebrating its 55th Anniversary			\n		\n	\n	\n		\n							\n					\n				\n					\n		\n			\n\n				Rotary Club Monthly Newsletter – March 2025			\n		\n	\n	\n		\n							\n					\n				\n					\n		\n			\n\n				Join Us for the Chuck Keagle Memorial Youth Track Meet!			\n		\n	\n	\n		\n							\n					\n				\n					\n		\n			\n\n				January–March 2025 Newsletter			\n		\n	\n	\n		\n							\n					\n				\n					\n		\n			\n\n				Discover What’s Happening This Month with Our October Newsletter! 📅✨			\n		\n	\n	\n		\n							\n					\n				\n					\n		\n			\n\n				Catch Up with Our September Newsletter! 🍂📢			\n		\n	\n	\n		\n							\n					\n				\n					\n		\n			\n\n				Rotary Club of Rancho Cucamonga’s Annual Happy Feet Program\, 2024			\n		\n	\n	\n		\n							\n					\n				\n					\n		\n			\n\n				Together\, We #EndPolio💫  Words of Hope and Gratitude from Bill Gates
URL:https://rcrotary.org/event/happy-feet-2025/
LOCATION:Alta Loma School District Support Center\, 9390 Base Line Rd.\, Rancho Cucamonga\, California\, 91701\, United States
CATEGORIES:Annual Event
ATTACH;FMTTYPE=image/png:https://rcrotary.org/wp-content/uploads/sites/9/2025/07/Rotary-Club-of-Rancho-Cucamonga-13.png
END:VEVENT
END:VCALENDAR